BEGIN:VCALENDAR
VERSION:2.0
PRODID:-//ChamberMaster//Event Calendar 2.0//EN
METHOD:PUBLISH
X-PUBLISHED-TTL:P3D
REFRESH-INTERVAL:P3D
CALSCALE:GREGORIAN
BEGIN:VEVENT
DTSTART:20171217T010000Z
DTEND:20171217T040000Z
X-MICROSOFT-CDO-ALLDAYEVENT:FALSE
SUMMARY:Jam Hops Movie Night
DESCRIPTION:Come watch "Nine Dog Christmas" and have Open Gym time.
X-ALT-DESC;FMTTYPE=text/html:Come watch &quot\;Nine Dog Christmas&quot\; and have Open Gym time.
LOCATION:1460 133rd Lane NE\, Ham Lake
UID:e.380.179163
SEQUENCE:3
DTSTAMP:20260421T051734Z
URL:http://members.metronorthchamber.org/events/details/jam-hops-movie-night-12-16-2017-179163
END:VEVENT

END:VCALENDAR
