BEGIN:VCALENDAR
VERSION:2.0
PRODID:-//ChamberMaster//Event Calendar 2.0//EN
METHOD:PUBLISH
X-PUBLISHED-TTL:P3D
REFRESH-INTERVAL:P3D
CALSCALE:GREGORIAN
BEGIN:VEVENT
DTSTART:20161211T010000Z
DTEND:20161211T040000Z
X-MICROSOFT-CDO-ALLDAYEVENT:FALSE
SUMMARY:Jam Hops Movie Night
DESCRIPTION:Come watch "The Polar Express" on our big screen projector and have open gym time.
X-ALT-DESC;FMTTYPE=text/html:Come watch &quot\;The Polar Express&quot\; on our big screen projector and have open gym time.
LOCATION:14216 Lincoln St. NE\, Ham Lake
UID:e.380.169892
SEQUENCE:3
DTSTAMP:20260421T235522Z
URL:http://members.metronorthchamber.org/events/details/jam-hops-movie-night-12-10-2016-169892
END:VEVENT

END:VCALENDAR
