BEGIN:VCALENDAR
VERSION:2.0
PRODID:-//ChamberMaster//Event Calendar 2.0//EN
METHOD:PUBLISH
X-PUBLISHED-TTL:P3D
REFRESH-INTERVAL:P3D
CALSCALE:GREGORIAN
BEGIN:VEVENT
DTSTART:20161120T010000Z
DTEND:20161120T040000Z
X-MICROSOFT-CDO-ALLDAYEVENT:FALSE
SUMMARY:Jam Hops Movie Night
DESCRIPTION:Come watch "Zootopia" and have open gym.
X-ALT-DESC;FMTTYPE=text/html:Come watch &quot\;Zootopia&quot\; and have open gym.
LOCATION:14216 Lincoln St. NE\, Ham Lake
UID:e.380.169864
SEQUENCE:3
DTSTAMP:20260422T015633Z
URL:http://members.metronorthchamber.org/events/details/jam-hops-movie-night-11-19-2016-169864
END:VEVENT

END:VCALENDAR
