BEGIN:VCALENDAR
VERSION:2.0
PRODID:-//ChamberMaster//Event Calendar 2.0//EN
METHOD:PUBLISH
X-PUBLISHED-TTL:P3D
REFRESH-INTERVAL:P3D
CALSCALE:GREGORIAN
BEGIN:VEVENT
DTSTART:20171119T010000Z
DTEND:20171119T040000Z
X-MICROSOFT-CDO-ALLDAYEVENT:FALSE
SUMMARY:Jam Hops Movie Night
DESCRIPTION:Come watch "Rock Dog" and have Open Gym time.
X-ALT-DESC;FMTTYPE=text/html:Come watch &quot\;Rock Dog&quot\; and have Open Gym time.
LOCATION:1460 133rd Lane NE\, Ham Lake
UID:e.380.179149
SEQUENCE:3
DTSTAMP:20260421T082555Z
URL:http://members.metronorthchamber.org/events/details/jam-hops-movie-night-11-18-2017-179149
END:VEVENT

END:VCALENDAR
