BEGIN:VCALENDAR
VERSION:2.0
PRODID:-//ChamberMaster//Event Calendar 2.0//EN
METHOD:PUBLISH
X-PUBLISHED-TTL:P3D
REFRESH-INTERVAL:P3D
CALSCALE:GREGORIAN
BEGIN:VEVENT
DTSTART:20171022T000000Z
DTEND:20171022T030000Z
X-MICROSOFT-CDO-ALLDAYEVENT:FALSE
SUMMARY:Jam Hops Movie Night
DESCRIPTION:Come watch "The Secret Life of Pets" and have open gym time. Movie subject to change based on availability.
X-ALT-DESC;FMTTYPE=text/html:Come watch &quot\;The Secret Life of Pets&quot\; and have open gym time. Movie subject to change based on availability.
LOCATION:1460 133rd Lane NE\, Ham Lake
UID:e.380.178988
SEQUENCE:3
DTSTAMP:20260421T093837Z
URL:http://members.metronorthchamber.org/events/details/jam-hops-movie-night-10-21-2017-178988
END:VEVENT

END:VCALENDAR
