BEGIN:VCALENDAR
VERSION:2.0
PRODID:-//ChamberMaster//Event Calendar 2.0//EN
METHOD:PUBLISH
X-PUBLISHED-TTL:P3D
REFRESH-INTERVAL:P3D
CALSCALE:GREGORIAN
BEGIN:VEVENT
DTSTART:20160925T000000Z
DTEND:20160925T030000Z
X-MICROSOFT-CDO-ALLDAYEVENT:FALSE
SUMMARY:Jam Hops Movie Night
DESCRIPTION:Come watch a movie and have open gym time!
X-ALT-DESC;FMTTYPE=text/html:Come watch a movie and have open gym time!
LOCATION:14216 Lincoln St. NE Ham Lake\, MN 55304
UID:e.380.169165
SEQUENCE:3
DTSTAMP:20260422T052320Z
URL:http://members.metronorthchamber.org/events/details/jam-hops-movie-night-09-24-2016-169165
END:VEVENT

END:VCALENDAR
