BEGIN:VCALENDAR
VERSION:2.0
PRODID:-//ChamberMaster//Event Calendar 2.0//EN
METHOD:PUBLISH
X-PUBLISHED-TTL:P3D
REFRESH-INTERVAL:P3D
CALSCALE:GREGORIAN
BEGIN:VEVENT
DTSTART:20170917T000000Z
DTEND:20170917T030000Z
X-MICROSOFT-CDO-ALLDAYEVENT:FALSE
SUMMARY:Jam Hops Movie Night
DESCRIPTION:Come watch a movie on our big screen projector and have open gym time!
X-ALT-DESC;FMTTYPE=text/html:Come watch a movie on our big screen projector and have open gym time!
LOCATION:14216 Lincoln St. NE\, Ham Lake
UID:e.380.176472
SEQUENCE:3
DTSTAMP:20260421T094209Z
URL:http://members.metronorthchamber.org/events/details/jam-hops-movie-night-09-16-2017-176472
END:VEVENT

END:VCALENDAR
