BEGIN:VCALENDAR
VERSION:2.0
PRODID:-//ChamberMaster//Event Calendar 2.0//EN
METHOD:PUBLISH
X-PUBLISHED-TTL:P3D
REFRESH-INTERVAL:P3D
CALSCALE:GREGORIAN
BEGIN:VEVENT
DTSTART:20160522T000000Z
DTEND:20160522T030000Z
X-MICROSOFT-CDO-ALLDAYEVENT:FALSE
SUMMARY:Jam Hops Movie Night
DESCRIPTION:Watch "The Good Dinosaur" on our big wall projector and have Open Gym time!
X-ALT-DESC;FMTTYPE=text/html:Watch &quot\;The Good Dinosaur&quot\; on our big wall projector and have Open Gym time!
LOCATION:14216 Lincoln St. Ham Lake
UID:e.380.168204
SEQUENCE:3
DTSTAMP:20260422T120400Z
URL:http://members.metronorthchamber.org/events/details/jam-hops-movie-night-05-21-2016-168204
END:VEVENT

END:VCALENDAR
