BEGIN:VCALENDAR
VERSION:2.0
PRODID:-//ChamberMaster//Event Calendar 2.0//EN
METHOD:PUBLISH
X-PUBLISHED-TTL:P3D
REFRESH-INTERVAL:P3D
CALSCALE:GREGORIAN
BEGIN:VEVENT
DTSTART:20170514T000000Z
DTEND:20170514T030000Z
X-MICROSOFT-CDO-ALLDAYEVENT:FALSE
SUMMARY:Jam Hops Movie Night
DESCRIPTION:Bring your kids ages kindergarten and older to watch "Storks" on our big screen projector and have open gym time.
X-ALT-DESC;FMTTYPE=text/html:Bring your kids ages kindergarten and older to watch &quot\;Storks&quot\; on our big screen projector and have open gym time.
LOCATION:14216 Lincoln St. NE\, Ham Lake
UID:e.380.175027
SEQUENCE:3
DTSTAMP:20260421T152731Z
URL:http://members.metronorthchamber.org/events/details/jam-hops-movie-night-05-13-2017-175027
END:VEVENT

END:VCALENDAR
