BEGIN:VCALENDAR
VERSION:2.0
PRODID:-//ChamberMaster//Event Calendar 2.0//EN
METHOD:PUBLISH
X-PUBLISHED-TTL:P3D
REFRESH-INTERVAL:P3D
CALSCALE:GREGORIAN
BEGIN:VEVENT
DTSTART:20160424T000000Z
DTEND:20160424T030000Z
X-MICROSOFT-CDO-ALLDAYEVENT:FALSE
SUMMARY:Jam Hops Movie Night
DESCRIPTION:Movie and Open Gym Time!  Movie is "Inside Out".
X-ALT-DESC;FMTTYPE=text/html:Movie and Open Gym Time!&nbsp\; Movie is &quot\;Inside Out&quot\;.
LOCATION:14216 Lincoln St. NE\, Ham Lake
UID:e.380.167405
SEQUENCE:3
DTSTAMP:20260422T133010Z
URL:http://members.metronorthchamber.org/events/details/jam-hops-movie-night-04-23-2016-167405
END:VEVENT

END:VCALENDAR
