BEGIN:VCALENDAR
VERSION:2.0
PRODID:-//ChamberMaster//Event Calendar 2.0//EN
METHOD:PUBLISH
X-PUBLISHED-TTL:P3D
REFRESH-INTERVAL:P3D
CALSCALE:GREGORIAN
BEGIN:VEVENT
DTSTART:20170423T000000Z
DTEND:20170423T030000Z
X-MICROSOFT-CDO-ALLDAYEVENT:FALSE
SUMMARY:Jam Hops Movie Night
DESCRIPTION:Come watch "The Wild Life" movie (subject to change based on availability) and have open gym time.
X-ALT-DESC;FMTTYPE=text/html:Come watch &quot\;The Wild Life&quot\; movie (subject to change based on availability) and have open gym time.
LOCATION:14216 Lincoln St. NE\, Ham Lake
UID:e.380.171780
SEQUENCE:3
DTSTAMP:20260421T170449Z
URL:http://members.metronorthchamber.org/events/details/jam-hops-movie-night-04-22-2017-171780
END:VEVENT

END:VCALENDAR
