BEGIN:VCALENDAR
VERSION:2.0
PRODID:-//ChamberMaster//Event Calendar 2.0//EN
METHOD:PUBLISH
X-PUBLISHED-TTL:P3D
REFRESH-INTERVAL:P3D
CALSCALE:GREGORIAN
BEGIN:VEVENT
DTSTART:20170326T000000Z
DTEND:20170326T030000Z
X-MICROSOFT-CDO-ALLDAYEVENT:FALSE
SUMMARY:Jam Hops Movie Night
DESCRIPTION:Kids will watch "The Jungle Book" and have open gym time.
X-ALT-DESC;FMTTYPE=text/html:Kids will watch &quot\;The Jungle Book&quot\; and have open gym time.
LOCATION:14216 Lincoln St. NE\, Ham Lake
UID:e.380.171509
SEQUENCE:3
DTSTAMP:20260421T184532Z
URL:http://members.metronorthchamber.org/events/details/jam-hops-movie-night-03-25-2017-171509
END:VEVENT

END:VCALENDAR
