BEGIN:VCALENDAR
VERSION:2.0
PRODID:-//ChamberMaster//Event Calendar 2.0//EN
METHOD:PUBLISH
X-PUBLISHED-TTL:P3D
REFRESH-INTERVAL:P3D
CALSCALE:GREGORIAN
BEGIN:VEVENT
DTSTART:20160306T010000Z
DTEND:20160306T040000Z
X-MICROSOFT-CDO-ALLDAYEVENT:FALSE
SUMMARY:Jam Hops Movie Night
DESCRIPTION:Movie Night and Open Gym - showing Dolphin Tale 2.
X-ALT-DESC;FMTTYPE=text/html:Movie Night and Open Gym - showing Dolphin Tale 2.
LOCATION:14216 Lincoln St. Ham Lake
UID:e.380.165080
SEQUENCE:3
DTSTAMP:20260422T175233Z
URL:http://members.metronorthchamber.org/events/details/jam-hops-movie-night-03-05-2016-165080
END:VEVENT

END:VCALENDAR
