BEGIN:VCALENDAR
VERSION:2.0
PRODID:-//ChamberMaster//Event Calendar 2.0//EN
METHOD:PUBLISH
X-PUBLISHED-TTL:P3D
REFRESH-INTERVAL:P3D
CALSCALE:GREGORIAN
BEGIN:VEVENT
DTSTART:20180225T010000Z
DTEND:20180225T040000Z
X-MICROSOFT-CDO-ALLDAYEVENT:FALSE
SUMMARY:Jam Hops Movie Night
DESCRIPTION:Come watch "Trolls" on our large wall projector and have open gym time.
X-ALT-DESC;FMTTYPE=text/html:<p>Come watch &quot\;Trolls&quot\; on our large wall projector and have open gym time.</p>\n
LOCATION:1460 133rd LN NE\, Ham Lake\, MN 55304
UID:e.380.179619
SEQUENCE:3
DTSTAMP:20260421T022338Z
URL:http://members.metronorthchamber.org/events/details/jam-hops-movie-night-02-24-2018-179619
END:VEVENT

END:VCALENDAR
