BEGIN:VCALENDAR
VERSION:2.0
PRODID:-//ChamberMaster//Event Calendar 2.0//EN
METHOD:PUBLISH
X-PUBLISHED-TTL:P3D
REFRESH-INTERVAL:P3D
CALSCALE:GREGORIAN
BEGIN:VEVENT
DTSTART:20160124T010000Z
DTEND:20160124T040000Z
X-MICROSOFT-CDO-ALLDAYEVENT:FALSE
SUMMARY:Jam Hops Movie Night
DESCRIPTION:A night for you to bring your kids to Jam Hops and parents can have a night out!
X-ALT-DESC;FMTTYPE=text/html:A night for you to bring your kids to Jam Hops and parents can have a night out!
LOCATION:Jam Hops Gymnastics\, 14216 Lincoln St. NE\, Ham Lake
UID:e.380.159907
SEQUENCE:3
DTSTAMP:20260422T221616Z
URL:http://members.metronorthchamber.org/events/details/jam-hops-movie-night-01-23-2016-159907
END:VEVENT

END:VCALENDAR
