BEGIN:VCALENDAR
VERSION:2.0
PRODID:-//ChamberMaster//Event Calendar 2.0//EN
METHOD:PUBLISH
X-PUBLISHED-TTL:P3D
REFRESH-INTERVAL:P3D
CALSCALE:GREGORIAN
BEGIN:VEVENT
DTSTART;VALUE=DATE:20170121
DTEND;VALUE=DATE:20170122
TRANSP:TRANSPARENT
X-MICROSOFT-CDO-ALLDAYEVENT:TRUE
SUMMARY:Jam Hops Movie Night
DESCRIPTION:Come watch "The Angry Birds Movie" on our large wall projector and have open gym time.
X-ALT-DESC;FMTTYPE=text/html:Come watch &quot\;The Angry Birds Movie&quot\; on our large wall projector and have open gym time.
LOCATION:14216 Lincoln St. NE\, Ham Lake
UID:e.380.170568
SEQUENCE:3
DTSTAMP:20260421T221206Z
URL:http://members.metronorthchamber.org/events/details/jam-hops-movie-night-01-21-2017-170568
END:VEVENT

END:VCALENDAR
