BEGIN:VCALENDAR
VERSION:2.0
PRODID:-//ChamberMaster//Event Calendar 2.0//EN
METHOD:PUBLISH
X-PUBLISHED-TTL:P3D
REFRESH-INTERVAL:P3D
CALSCALE:GREGORIAN
BEGIN:VEVENT
DTSTART:20161228T000000Z
DTEND:20161228T020000Z
X-MICROSOFT-CDO-ALLDAYEVENT:FALSE
SUMMARY:Jam Hops Magic Show and Game Night
DESCRIPTION:Come watch the "Philips and Henry" professional Magic Show and play organized group games.
X-ALT-DESC;FMTTYPE=text/html:Come watch the &quot\;Philips and Henry&quot\; professional Magic Show and play organized group games.
LOCATION:14216 Lincoln St. NE\, Ham Lake
UID:e.380.170569
SEQUENCE:3
DTSTAMP:20260421T235246Z
URL:http://members.metronorthchamber.org/events/details/jam-hops-magic-show-and-game-night-170569
END:VEVENT

END:VCALENDAR
