BEGIN:VCALENDAR
VERSION:2.0
PRODID:-//ChamberMaster//Event Calendar 2.0//EN
METHOD:PUBLISH
X-PUBLISHED-TTL:P3D
REFRESH-INTERVAL:P3D
CALSCALE:GREGORIAN
BEGIN:VEVENT
DTSTART:20160215T233000Z
DTEND:20160216T013000Z
X-MICROSOFT-CDO-ALLDAYEVENT:FALSE
SUMMARY:Jam Hops Leap-N-Learn Open House
DESCRIPTION:
X-ALT-DESC;FMTTYPE=text/html:
LOCATION:14216 Lincoln St. NE\, Ham Lake
UID:e.380.163102
SEQUENCE:3
DTSTAMP:20260422T175026Z
URL:http://members.metronorthchamber.org/events/details/jam-hops-leap-n-learn-open-house-02-15-2016-163102
END:VEVENT

END:VCALENDAR
