BEGIN:VCALENDAR
VERSION:2.0
PRODID:-//ChamberMaster//Event Calendar 2.0//EN
METHOD:PUBLISH
X-PUBLISHED-TTL:P3D
REFRESH-INTERVAL:P3D
CALSCALE:GREGORIAN
BEGIN:VEVENT
DTSTART:20161030T000000Z
DTEND:20161030T040000Z
X-MICROSOFT-CDO-ALLDAYEVENT:FALSE
SUMMARY:Jam Hops Halloween Party
DESCRIPTION:Come in your costume - for children ages kindergarten and older. We have a haunted house!
X-ALT-DESC;FMTTYPE=text/html:Come in your costume - for children ages kindergarten and older. We have a haunted house!
LOCATION:14216 Lincoln St. NE\, Ham Lake
UID:e.380.169861
SEQUENCE:3
DTSTAMP:20260422T033030Z
URL:http://members.metronorthchamber.org/events/details/jam-hops-halloween-party-169861
END:VEVENT

END:VCALENDAR
