BEGIN:VCALENDAR
VERSION:2.0
PRODID:-//ChamberMaster//Event Calendar 2.0//EN
METHOD:PUBLISH
X-PUBLISHED-TTL:P3D
REFRESH-INTERVAL:P3D
CALSCALE:GREGORIAN
BEGIN:VEVENT
DTSTART:20171029T000000Z
DTEND:20171029T040000Z
X-MICROSOFT-CDO-ALLDAYEVENT:FALSE
SUMMARY:Jam Hops Halloween Party
DESCRIPTION:Have kids wear their Halloween Costume to our party and do some trick-or-treating and haunted house and other fun!
X-ALT-DESC;FMTTYPE=text/html:Have kids wear their Halloween Costume to our party and do some trick-or-treating and haunted house and other fun!
LOCATION:1460 133rd Lane NE\, Ham Lake
UID:e.380.178993
SEQUENCE:3
DTSTAMP:20260421T093739Z
URL:http://members.metronorthchamber.org/events/details/jam-hops-halloween-party-10-28-2017-178993
END:VEVENT

END:VCALENDAR
