BEGIN:VCALENDAR
VERSION:2.0
PRODID:-//ChamberMaster//Event Calendar 2.0//EN
METHOD:PUBLISH
X-PUBLISHED-TTL:P3D
REFRESH-INTERVAL:P3D
CALSCALE:GREGORIAN
BEGIN:VEVENT
DTSTART:20171022T200000Z
DTEND:20171022T230000Z
X-MICROSOFT-CDO-ALLDAYEVENT:FALSE
SUMMARY:Jam Hops Grand Opening Celebration
DESCRIPTION:Come to Jam Hops to see our new 43\,000 square foot facility! We have Gymnastics\, Dance\, Cheer\, Ninja Zone\, Academic Preschool and Theater. Plus many events and activities\, and we also do birthday parties! Come for open gym time\, face painting\, bounce house\, twisted balloons and so much more!
X-ALT-DESC;FMTTYPE=text/html:Come to Jam Hops to see our new 43\,000 square foot facility! We have Gymnastics\, Dance\, Cheer\, Ninja Zone\, Academic Preschool and Theater. Plus many events and activities\, and we also do birthday parties! Come for open gym time\, face painting\, bounce house\, twisted balloons and so much more!
LOCATION:1460 133rd Lane NE\, Ham Lake
UID:e.380.178980
SEQUENCE:3
DTSTAMP:20260421T082218Z
URL:http://members.metronorthchamber.org/events/details/jam-hops-grand-opening-celebration-178980
END:VEVENT

END:VCALENDAR
