BEGIN:VCALENDAR
VERSION:2.0
PRODID:-//ChamberMaster//Event Calendar 2.0//EN
METHOD:PUBLISH
X-PUBLISHED-TTL:P3D
REFRESH-INTERVAL:P3D
CALSCALE:GREGORIAN
BEGIN:VEVENT
DTSTART;VALUE=DATE:20161222
DTEND;VALUE=DATE:20170103
TRANSP:TRANSPARENT
X-MICROSOFT-CDO-ALLDAYEVENT:TRUE
SUMMARY:Jam Hops Day Camp
DESCRIPTION:Bring your kids to Day Camp on the days they have off from school.
X-ALT-DESC;FMTTYPE=text/html:Bring your kids to Day Camp on the days they have off from school.
LOCATION:14216 Lincoln St. NE\, Ham Lake
UID:e.380.169895
SEQUENCE:3
DTSTAMP:20260421T221040Z
URL:http://members.metronorthchamber.org/events/details/jam-hops-day-camp-12-22-2016-169895
END:VEVENT

END:VCALENDAR
