BEGIN:VCALENDAR
VERSION:2.0
PRODID:-//ChamberMaster//Event Calendar 2.0//EN
METHOD:PUBLISH
X-PUBLISHED-TTL:P3D
REFRESH-INTERVAL:P3D
CALSCALE:GREGORIAN
BEGIN:VEVENT
DTSTART:20161205T150000Z
DTEND:20161205T220000Z
X-MICROSOFT-CDO-ALLDAYEVENT:FALSE
SUMMARY:Jam Hops Day Camp
DESCRIPTION:Bring your kids to Jam Hops on the days they have off school.
X-ALT-DESC;FMTTYPE=text/html:Bring your kids to Jam Hops on the days they have off school.
LOCATION:14216 Lincoln St. NE\, Ham Lake
UID:e.380.169891
SEQUENCE:3
DTSTAMP:20260421T235307Z
URL:http://members.metronorthchamber.org/events/details/jam-hops-day-camp-12-05-2016-169891
END:VEVENT

END:VCALENDAR
