BEGIN:VCALENDAR
VERSION:2.0
PRODID:-//ChamberMaster//Event Calendar 2.0//EN
METHOD:PUBLISH
X-PUBLISHED-TTL:P3D
REFRESH-INTERVAL:P3D
CALSCALE:GREGORIAN
BEGIN:VEVENT
DTSTART;VALUE=DATE:20151204
DTEND;VALUE=DATE:20151205
TRANSP:TRANSPARENT
X-MICROSOFT-CDO-ALLDAYEVENT:TRUE
SUMMARY:Jam Hops Day Camp
DESCRIPTION:Sign your kids up for our Day Camp on Friday\, December 4th when district #11 has off from school!
X-ALT-DESC;FMTTYPE=text/html:Sign your kids up for our Day Camp on Friday\, December 4th when district #11 has off from school!
LOCATION:14216 Lincoln St.\, Ham Lake
UID:e.380.159867
SEQUENCE:3
DTSTAMP:20260422T204647Z
URL:http://members.metronorthchamber.org/events/details/jam-hops-day-camp-12-04-2015-159867
END:VEVENT

END:VCALENDAR
