BEGIN:VCALENDAR
VERSION:2.0
PRODID:-//ChamberMaster//Event Calendar 2.0//EN
METHOD:PUBLISH
X-PUBLISHED-TTL:P3D
REFRESH-INTERVAL:P3D
CALSCALE:GREGORIAN
BEGIN:VEVENT
DTSTART:20161202T150000Z
DTEND:20161202T220000Z
X-MICROSOFT-CDO-ALLDAYEVENT:FALSE
SUMMARY:Jam Hops Day Camp
DESCRIPTION:Day Camp for days your children have off from school.
X-ALT-DESC;FMTTYPE=text/html:Day Camp for days your children have off from school.
LOCATION:14216 Lincoln St. NE\, Ham Lake
UID:e.380.169890
SEQUENCE:3
DTSTAMP:20260421T235246Z
URL:http://members.metronorthchamber.org/events/details/jam-hops-day-camp-12-02-2016-169890
END:VEVENT

END:VCALENDAR
