BEGIN:VCALENDAR
VERSION:2.0
PRODID:-//ChamberMaster//Event Calendar 2.0//EN
METHOD:PUBLISH
X-PUBLISHED-TTL:P3D
REFRESH-INTERVAL:P3D
CALSCALE:GREGORIAN
BEGIN:VEVENT
DTSTART:20161122T150000Z
DTEND:20161122T220000Z
X-MICROSOFT-CDO-ALLDAYEVENT:FALSE
SUMMARY:Jam Hops Day Camp
DESCRIPTION:Bring your kids to Jam Hops on their days off of school.
X-ALT-DESC;FMTTYPE=text/html:Bring your kids to Jam Hops on their days off of school.
LOCATION:14216 Lincoln St. NE\, Ham Lake
UID:e.380.169866
SEQUENCE:3
DTSTAMP:20260422T014604Z
URL:http://members.metronorthchamber.org/events/details/jam-hops-day-camp-11-22-2016-169866
END:VEVENT

END:VCALENDAR
