BEGIN:VCALENDAR
VERSION:2.0
PRODID:-//ChamberMaster//Event Calendar 2.0//EN
METHOD:PUBLISH
X-PUBLISHED-TTL:P3D
REFRESH-INTERVAL:P3D
CALSCALE:GREGORIAN
BEGIN:VEVENT
DTSTART:20161018T010000Z
DTEND:20161021T220000Z
X-MICROSOFT-CDO-ALLDAYEVENT:FALSE
SUMMARY:Jam Hops Day Camp
DESCRIPTION:Day Camp is a place for kids when they have off from school.
X-ALT-DESC;FMTTYPE=text/html:Day Camp is a place for kids when they have off from school.
LOCATION:14216 Lincoln St. NE\, Ham Lake
UID:e.380.169492
SEQUENCE:3
DTSTAMP:20260422T032936Z
URL:http://members.metronorthchamber.org/events/details/jam-hops-day-camp-10-17-2016-169492
END:VEVENT

END:VCALENDAR
