BEGIN:VCALENDAR
VERSION:2.0
PRODID:-//ChamberMaster//Event Calendar 2.0//EN
METHOD:PUBLISH
X-PUBLISHED-TTL:P3D
REFRESH-INTERVAL:P3D
CALSCALE:GREGORIAN
BEGIN:VEVENT
DTSTART;VALUE=DATE:20160620
DTEND;VALUE=DATE:20160625
TRANSP:TRANSPARENT
X-MICROSOFT-CDO-ALLDAYEVENT:TRUE
SUMMARY:Jam Hops Day Camp
DESCRIPTION:Bring your kids to our camp this summer for gymnastics\, games\, movies\, field trips\, open gym\, crafts and more!
X-ALT-DESC;FMTTYPE=text/html:Bring your kids to our camp this summer for gymnastics\, games\, movies\, field trips\, open gym\, crafts and more!
LOCATION:14216 Lincoln St. NE
UID:e.380.168210
SEQUENCE:3
DTSTAMP:20260422T114319Z
URL:http://members.metronorthchamber.org/events/details/jam-hops-day-camp-06-20-2016-168210
END:VEVENT

END:VCALENDAR
