BEGIN:VCALENDAR
VERSION:2.0
PRODID:-//ChamberMaster//Event Calendar 2.0//EN
METHOD:PUBLISH
X-PUBLISHED-TTL:P3D
REFRESH-INTERVAL:P3D
CALSCALE:GREGORIAN
BEGIN:VEVENT
DTSTART:20160524T020000Z
DTEND:20160527T210000Z
X-MICROSOFT-CDO-ALLDAYEVENT:FALSE
SUMMARY:Jam Hops Day Camp
DESCRIPTION:Day Camp for kids that have off school!  Come for the fun!
X-ALT-DESC;FMTTYPE=text/html:Day Camp for kids that have off school!&nbsp\; Come for the fun!
LOCATION:14216 Lincoln St. NE\, Ham Lake
UID:e.380.168205
SEQUENCE:3
DTSTAMP:20260422T132759Z
URL:http://members.metronorthchamber.org/events/details/jam-hops-day-camp-05-23-2016-168205
END:VEVENT

END:VCALENDAR
