BEGIN:VCALENDAR
VERSION:2.0
PRODID:-//ChamberMaster//Event Calendar 2.0//EN
METHOD:PUBLISH
X-PUBLISHED-TTL:P3D
REFRESH-INTERVAL:P3D
CALSCALE:GREGORIAN
BEGIN:VEVENT
DTSTART:20170322T140000Z
DTEND:20170322T210000Z
X-MICROSOFT-CDO-ALLDAYEVENT:FALSE
SUMMARY:Jam Hops Day Camp
DESCRIPTION:Bring your kids to Jam Hops to have fun and be active on the days they have off from school.
X-ALT-DESC;FMTTYPE=text/html:Bring your kids to Jam Hops to have fun and be active on the days they have off from school.
LOCATION:14216 Lincoln St. NE\, Ham Lake
UID:e.380.171504
SEQUENCE:3
DTSTAMP:20260421T184243Z
URL:http://members.metronorthchamber.org/events/details/jam-hops-day-camp-03-22-2017-171504
END:VEVENT

END:VCALENDAR
