BEGIN:VCALENDAR
VERSION:2.0
PRODID:-//ChamberMaster//Event Calendar 2.0//EN
METHOD:PUBLISH
X-PUBLISHED-TTL:P3D
REFRESH-INTERVAL:P3D
CALSCALE:GREGORIAN
BEGIN:VEVENT
DTSTART;VALUE=DATE:20170210
DTEND;VALUE=DATE:20170222
TRANSP:TRANSPARENT
X-MICROSOFT-CDO-ALLDAYEVENT:TRUE
SUMMARY:Jam Hops Day Camp
DESCRIPTION:Bring your kids to Jam Hops when they don't have school!
X-ALT-DESC;FMTTYPE=text/html:Bring your kids to Jam Hops when they don&#39\;t have school!
LOCATION:14216 Lincoln St. NE\, Ham Lake
UID:e.380.171446
SEQUENCE:3
DTSTAMP:20260421T203635Z
URL:http://members.metronorthchamber.org/events/details/jam-hops-day-camp-02-10-2017-171446
END:VEVENT

END:VCALENDAR
