BEGIN:VCALENDAR
VERSION:2.0
PRODID:-//ChamberMaster//Event Calendar 2.0//EN
METHOD:PUBLISH
X-PUBLISHED-TTL:P3D
REFRESH-INTERVAL:P3D
CALSCALE:GREGORIAN
BEGIN:VEVENT
DTSTART:20171204T003000Z
DTEND:20171204T020000Z
X-MICROSOFT-CDO-ALLDAYEVENT:FALSE
SUMMARY:Jam Hops Community Lite Nite
DESCRIPTION:Join us for devotional time with free open gym for families afterward. Ages 12 and younger must be accompanied by an adult.
X-ALT-DESC;FMTTYPE=text/html:Join us for devotional time with free open gym for families afterward. Ages 12 and younger must be accompanied by an adult.
LOCATION:1460 133rd Lane NE\, Ham Lake
UID:e.380.179161
SEQUENCE:3
DTSTAMP:20260421T051438Z
URL:http://members.metronorthchamber.org/events/details/jam-hops-community-lite-nite-12-03-2017-179161
END:VEVENT

END:VCALENDAR
