BEGIN:VCALENDAR
VERSION:2.0
PRODID:-//ChamberMaster//Event Calendar 2.0//EN
METHOD:PUBLISH
X-PUBLISHED-TTL:P3D
REFRESH-INTERVAL:P3D
CALSCALE:GREGORIAN
BEGIN:VEVENT
DTSTART:20180506T233000Z
DTEND:20180507T010000Z
X-MICROSOFT-CDO-ALLDAYEVENT:FALSE
SUMMARY:Jam Hops Community Lite Nite
DESCRIPTION:Join us for a FREE Devotional and open gym opportunity for families to unwind and meet each other!
X-ALT-DESC;FMTTYPE=text/html:Join us for a FREE Devotional and open gym opportunity for families to unwind and meet each other!
LOCATION:1460 133rd LN NE\, Ham Lake\, MN 55304
UID:e.380.184806
SEQUENCE:3
DTSTAMP:20260420T212621Z
URL:http://members.metronorthchamber.org/events/details/jam-hops-community-lite-nite-05-06-2018-184806
END:VEVENT

END:VCALENDAR
