BEGIN:VCALENDAR
VERSION:2.0
PRODID:-//ChamberMaster//Event Calendar 2.0//EN
METHOD:PUBLISH
X-PUBLISHED-TTL:P3D
REFRESH-INTERVAL:P3D
CALSCALE:GREGORIAN
BEGIN:VEVENT
DTSTART:20180415T233000Z
DTEND:20180416T010000Z
X-MICROSOFT-CDO-ALLDAYEVENT:FALSE
SUMMARY:Jam Hops Community Lite Nite
DESCRIPTION:The first and third Sunday evenings of every month we will open our doors and invite everyone in FOR FREE!  This will be a Devotional/Open Gym opportunity for families to unwind and meet each other.
X-ALT-DESC;FMTTYPE=text/html:<p>The first and third Sunday evenings of every month we will open our doors and invite everyone in FOR&nbsp\;FREE!&nbsp\; This will be a Devotional/Open Gym opportunity for families to unwind and meet each other.&nbsp\;</p>\n
LOCATION:1460 133rd LN NE\, Ham Lake\, MN 55304
UID:e.380.180307
SEQUENCE:3
DTSTAMP:20260420T230740Z
URL:http://members.metronorthchamber.org/events/details/jam-hops-community-lite-nite-04-15-2018-180307
END:VEVENT

END:VCALENDAR
