BEGIN:VCALENDAR
VERSION:2.0
PRODID:-//ChamberMaster//Event Calendar 2.0//EN
METHOD:PUBLISH
X-PUBLISHED-TTL:P3D
REFRESH-INTERVAL:P3D
CALSCALE:GREGORIAN
BEGIN:VEVENT
DTSTART:20160430T140000Z
DTEND:20160430T160000Z
X-MICROSOFT-CDO-ALLDAYEVENT:FALSE
SUMMARY:Jam Hops Cheer Tryouts
DESCRIPTION:Team Placement Evaluation\; no experience necessary
X-ALT-DESC;FMTTYPE=text/html:Team Placement Evaluation\; no experience necessary
LOCATION:1618 99th Lane\, Blaine
UID:e.380.167409
SEQUENCE:3
DTSTAMP:20260422T132752Z
URL:http://members.metronorthchamber.org/events/details/jam-hops-cheer-tryouts-04-30-2016-167409
END:VEVENT

END:VCALENDAR
