BEGIN:VCALENDAR
VERSION:2.0
PRODID:-//ChamberMaster//Event Calendar 2.0//EN
METHOD:PUBLISH
X-PUBLISHED-TTL:P3D
REFRESH-INTERVAL:P3D
CALSCALE:GREGORIAN
BEGIN:VEVENT
DTSTART:20160428T223000Z
DTEND:20160429T013000Z
X-MICROSOFT-CDO-ALLDAYEVENT:FALSE
SUMMARY:Jam Hops Cheer Tryouts
DESCRIPTION:Team Evaluation Practice
X-ALT-DESC;FMTTYPE=text/html:Team Evaluation Practice
LOCATION:1618 99th Lane\, Blaine
UID:e.380.167408
SEQUENCE:3
DTSTAMP:20260422T145320Z
URL:http://members.metronorthchamber.org/events/details/jam-hops-cheer-tryouts-04-28-2016-167408
END:VEVENT

END:VCALENDAR
