BEGIN:VCALENDAR
VERSION:2.0
PRODID:-//ChamberMaster//Event Calendar 2.0//EN
METHOD:PUBLISH
X-PUBLISHED-TTL:P3D
REFRESH-INTERVAL:P3D
CALSCALE:GREGORIAN
BEGIN:VEVENT
DTSTART:20160410T180000Z
DTEND:20160410T203000Z
X-MICROSOFT-CDO-ALLDAYEVENT:FALSE
SUMMARY:Jam Hops Cheer Clinic
DESCRIPTION:Participants will learn cheer\, stunting and jumps!
X-ALT-DESC;FMTTYPE=text/html:Participants will learn cheer\, stunting and jumps!
LOCATION:1618 99th Lane\, Blaine
UID:e.380.167406
SEQUENCE:3
DTSTAMP:20260422T145525Z
URL:http://members.metronorthchamber.org/events/details/jam-hops-cheer-clinic-04-10-2016-167406
END:VEVENT

END:VCALENDAR
