BEGIN:VCALENDAR
VERSION:2.0
PRODID:-//ChamberMaster//Event Calendar 2.0//EN
METHOD:PUBLISH
X-PUBLISHED-TTL:P3D
REFRESH-INTERVAL:P3D
CALSCALE:GREGORIAN
BEGIN:VEVENT
DTSTART;VALUE=DATE:20170314
DTEND;VALUE=DATE:20170316
TRANSP:TRANSPARENT
X-MICROSOFT-CDO-ALLDAYEVENT:TRUE
SUMMARY:Jam Hops Camptastic Preschool Camps
DESCRIPTION:Bring your preschooler (ages 3-5 and potty trained) to Jam Hops for some fun!
X-ALT-DESC;FMTTYPE=text/html:Bring your preschooler (ages 3-5 and potty trained) to Jam Hops for some fun!
LOCATION:14216 Lincoln St. NE\, Ham Lake
UID:e.380.171782
SEQUENCE:3
DTSTAMP:20260421T203723Z
URL:http://members.metronorthchamber.org/events/details/jam-hops-camptastic-preschool-camps-171782
END:VEVENT

END:VCALENDAR
