BEGIN:VCALENDAR
VERSION:2.0
PRODID:-//ChamberMaster//Event Calendar 2.0//EN
METHOD:PUBLISH
X-PUBLISHED-TTL:P3D
REFRESH-INTERVAL:P3D
CALSCALE:GREGORIAN
BEGIN:VEVENT
DTSTART:20171018T140000Z
DTEND:20171018T170000Z
X-MICROSOFT-CDO-ALLDAYEVENT:FALSE
SUMMARY:Jam Hops Camptastic Preschool Camps
DESCRIPTION:Bring your preschool kids to have fun at our gym!
X-ALT-DESC;FMTTYPE=text/html:Bring your preschool kids to have fun at our gym!
LOCATION:1460 133rd Lane NE\, Ham Lake
UID:e.380.178986
SEQUENCE:3
DTSTAMP:20260421T084152Z
URL:http://members.metronorthchamber.org/events/details/jam-hops-camptastic-preschool-camps-10-18-2017-178986
END:VEVENT

END:VCALENDAR
