BEGIN:VCALENDAR
VERSION:2.0
PRODID:-//ChamberMaster//Event Calendar 2.0//EN
METHOD:PUBLISH
X-PUBLISHED-TTL:P3D
REFRESH-INTERVAL:P3D
CALSCALE:GREGORIAN
BEGIN:VEVENT
DTSTART:20170621T140000Z
DTEND:20170621T210000Z
X-MICROSOFT-CDO-ALLDAYEVENT:FALSE
SUMMARY:Jam Hops Camptastic Preschool Camps
DESCRIPTION:Bring your kids to our fun camps this summer.
X-ALT-DESC;FMTTYPE=text/html:Bring your kids to our fun camps this summer.
LOCATION:14216 Lincoln St. NE Ham Lake
UID:e.380.175080
SEQUENCE:3
DTSTAMP:20260421T135237Z
URL:http://members.metronorthchamber.org/events/details/jam-hops-camptastic-preschool-camps-06-21-2017-175080
END:VEVENT

END:VCALENDAR
