BEGIN:VCALENDAR
VERSION:2.0
PRODID:-//ChamberMaster//Event Calendar 2.0//EN
METHOD:PUBLISH
X-PUBLISHED-TTL:P3D
REFRESH-INTERVAL:P3D
CALSCALE:GREGORIAN
BEGIN:VEVENT
DTSTART:20180315T140000Z
DTEND:20180315T170000Z
X-MICROSOFT-CDO-ALLDAYEVENT:FALSE
SUMMARY:Jam Hops Camptastic Preschool Camps
DESCRIPTION:Bring your preschooler (ages 3-5 and potty trained) to Jam Hops for some fun!
X-ALT-DESC;FMTTYPE=text/html:<p>Bring your preschooler (ages 3-5 and potty trained) to Jam Hops for some fun!</p>\n
LOCATION:1460 133rd LN NE\, Ham Lake\, MN 55304
UID:e.380.179613
SEQUENCE:3
DTSTAMP:20260421T021857Z
URL:http://members.metronorthchamber.org/events/details/jam-hops-camptastic-preschool-camps-03-15-2018-179613
END:VEVENT

END:VCALENDAR
