BEGIN:VCALENDAR
VERSION:2.0
PRODID:-//ChamberMaster//Event Calendar 2.0//EN
METHOD:PUBLISH
X-PUBLISHED-TTL:P3D
REFRESH-INTERVAL:P3D
CALSCALE:GREGORIAN
BEGIN:VEVENT
DTSTART:20171227T150000Z
DTEND:20171227T180000Z
X-MICROSOFT-CDO-ALLDAYEVENT:FALSE
SUMMARY:Jam Hops Camptastic Preschool Camp
DESCRIPTION:Bring your preschooler (ages 3-5 and potty trained) to Jam Hops for some fun!
X-ALT-DESC;FMTTYPE=text/html:<p>Bring your preschooler (ages 3-5 and potty trained) to Jam Hops for some fun!</p>\n
LOCATION:1460 133rd Lane NE\, Ham Lake
UID:e.380.179170
SEQUENCE:3
DTSTAMP:20260421T051552Z
URL:http://members.metronorthchamber.org/events/details/jam-hops-camptastic-preschool-camp-12-27-2017-179170
END:VEVENT

END:VCALENDAR
