BEGIN:VCALENDAR
VERSION:2.0
PRODID:-//ChamberMaster//Event Calendar 2.0//EN
METHOD:PUBLISH
X-PUBLISHED-TTL:P3D
REFRESH-INTERVAL:P3D
CALSCALE:GREGORIAN
BEGIN:VEVENT
DTSTART;VALUE=DATE:20170413
DTEND;VALUE=DATE:20170415
TRANSP:TRANSPARENT
X-MICROSOFT-CDO-ALLDAYEVENT:TRUE
SUMMARY:Jam Hops Camptastic Day Camps
DESCRIPTION:For kids ages kindergarten and older to come on their days off school.
X-ALT-DESC;FMTTYPE=text/html:For kids ages kindergarten and older to come on their days off school.
LOCATION:14216 Lincoln St. NE\, Ham Lake
UID:e.380.171777
SEQUENCE:3
DTSTAMP:20260421T170140Z
URL:http://members.metronorthchamber.org/events/details/jam-hops-camptastic-day-camps-171777
END:VEVENT

END:VCALENDAR
