BEGIN:VCALENDAR
VERSION:2.0
PRODID:-//ChamberMaster//Event Calendar 2.0//EN
METHOD:PUBLISH
X-PUBLISHED-TTL:P3D
REFRESH-INTERVAL:P3D
CALSCALE:GREGORIAN
BEGIN:VEVENT
DTSTART:20171229T143000Z
DTEND:20171229T223000Z
X-MICROSOFT-CDO-ALLDAYEVENT:FALSE
SUMMARY:Jam Hops Camptastic Day Camps
DESCRIPTION:Our Day Camps are on the days your kids have off school. The regular time is 8:30am-4:30pm\, but then we have before care from 7:30-8:30am and after care from 4:30-5:30pm. Grades K-10.
X-ALT-DESC;FMTTYPE=text/html:<p>Our Day Camps are on the days your kids have off school. The regular time is 8:30am-4:30pm\, but then we have before care from 7:30-8:30am and after care from 4:30-5:30pm. Grades K-10.</p>\n
LOCATION:1460 133rd Lane NE\, Ham Lake
UID:e.380.179173
SEQUENCE:3
DTSTAMP:20260421T051536Z
URL:http://members.metronorthchamber.org/events/details/jam-hops-camptastic-day-camps-12-29-2017-179173
END:VEVENT

END:VCALENDAR
