BEGIN:VCALENDAR
VERSION:2.0
PRODID:-//ChamberMaster//Event Calendar 2.0//EN
METHOD:PUBLISH
X-PUBLISHED-TTL:P3D
REFRESH-INTERVAL:P3D
CALSCALE:GREGORIAN
BEGIN:VEVENT
DTSTART:20170801T130000Z
DTEND:20170804T220000Z
X-MICROSOFT-CDO-ALLDAYEVENT:FALSE
SUMMARY:Jam Hops Camptastic Day Camps
DESCRIPTION:Bring your kids to Camptastic this summer to stay active and make new friends!
X-ALT-DESC;FMTTYPE=text/html:Bring your kids to Camptastic this summer to stay active and make new friends!
LOCATION:14216 Lincoln St. NE\, Ham Lake
UID:e.380.176464
SEQUENCE:3
DTSTAMP:20260421T121214Z
URL:http://members.metronorthchamber.org/events/details/jam-hops-camptastic-day-camps-08-01-2017-176464
END:VEVENT

END:VCALENDAR
