BEGIN:VCALENDAR
VERSION:2.0
PRODID:-//ChamberMaster//Event Calendar 2.0//EN
METHOD:PUBLISH
X-PUBLISHED-TTL:P3D
REFRESH-INTERVAL:P3D
CALSCALE:GREGORIAN
BEGIN:VEVENT
DTSTART:20170609T140000Z
DTEND:20170609T210000Z
X-MICROSOFT-CDO-ALLDAYEVENT:FALSE
SUMMARY:Jam Hops Camptastic Day Camps
DESCRIPTION:Bring your kids to our fun camps on their days off school. We also have before and after care from 8am-9am and 4pm-5pm.
X-ALT-DESC;FMTTYPE=text/html:Bring your kids to our fun camps on their days off school. We also have before and after care from 8am-9am and 4pm-5pm.
LOCATION:14216 Lincoln St. NE Ham Lake
UID:e.380.175068
SEQUENCE:3
DTSTAMP:20260421T135102Z
URL:http://members.metronorthchamber.org/events/details/jam-hops-camptastic-day-camps-06-09-2017-175068
END:VEVENT

END:VCALENDAR
