BEGIN:VCALENDAR
VERSION:2.0
PRODID:-//ChamberMaster//Event Calendar 2.0//EN
METHOD:PUBLISH
X-PUBLISHED-TTL:P3D
REFRESH-INTERVAL:P3D
CALSCALE:GREGORIAN
BEGIN:VEVENT
DTSTART:20160423T223000Z
DTEND:20160424T000000Z
X-MICROSOFT-CDO-ALLDAYEVENT:FALSE
SUMMARY:Jam Hops Back Tuck Clinic
DESCRIPTION:Sign up your kids to learn how to do a Back Tuck!
X-ALT-DESC;FMTTYPE=text/html:Sign up your kids to learn how to do a Back Tuck!
LOCATION:14216 Lincoln St. NE\, Ham Lake
UID:e.380.167404
SEQUENCE:3
DTSTAMP:20260422T145524Z
URL:http://members.metronorthchamber.org/events/details/jam-hops-back-tuck-clinic-04-23-2016-167404
END:VEVENT

END:VCALENDAR
