BEGIN:VCALENDAR
VERSION:2.0
PRODID:-//ChamberMaster//Event Calendar 2.0//EN
METHOD:PUBLISH
X-PUBLISHED-TTL:P3D
REFRESH-INTERVAL:P3D
CALSCALE:GREGORIAN
BEGIN:VEVENT
DTSTART:20170916T223000Z
DTEND:20170917T000000Z
X-MICROSOFT-CDO-ALLDAYEVENT:FALSE
SUMMARY:Jam Hops Back Handspring Skill Clinic
DESCRIPTION:Come learn the steps to do a back handspring!
X-ALT-DESC;FMTTYPE=text/html:Come learn the steps to do a back handspring!
LOCATION:14216 Lincoln St. NE\, Ham Lake
UID:e.380.176471
SEQUENCE:3
DTSTAMP:20260421T093438Z
URL:http://members.metronorthchamber.org/events/details/jam-hops-back-handspring-skill-clinic-176471
END:VEVENT

END:VCALENDAR
