BEGIN:VCALENDAR
VERSION:2.0
PRODID:-//ChamberMaster//Event Calendar 2.0//EN
METHOD:PUBLISH
X-PUBLISHED-TTL:P3D
REFRESH-INTERVAL:P3D
CALSCALE:GREGORIAN
BEGIN:VEVENT
DTSTART:20170225T233000Z
DTEND:20170226T010000Z
X-MICROSOFT-CDO-ALLDAYEVENT:FALSE
SUMMARY:Jam Hops Back Handspring Clinic
DESCRIPTION:Come learn the steps for doing a back handspring!
X-ALT-DESC;FMTTYPE=text/html:Come learn the steps for doing a back handspring!
LOCATION:14216 Lincoln St. NE\, Ham Lake
UID:e.380.171449
SEQUENCE:3
DTSTAMP:20260421T203631Z
URL:http://members.metronorthchamber.org/events/details/jam-hops-back-handspring-clinic-171449
END:VEVENT

END:VCALENDAR
