BEGIN:VCALENDAR
VERSION:2.0
PRODID:-//ChamberMaster//Event Calendar 2.0//EN
METHOD:PUBLISH
X-PUBLISHED-TTL:P3D
REFRESH-INTERVAL:P3D
CALSCALE:GREGORIAN
BEGIN:VEVENT
DTSTART:20170506T194500Z
DTEND:20170506T210000Z
X-MICROSOFT-CDO-ALLDAYEVENT:FALSE
SUMMARY:Jam Hops All Boys Open Gym
DESCRIPTION:All boys ages 5 and up are welcome to attend our All Boys Open Gym event!
X-ALT-DESC;FMTTYPE=text/html:All boys ages 5 and up are welcome to attend our All Boys Open Gym event!
LOCATION:14216 Lincoln St. NE\, Ham Lake
UID:e.380.175026
SEQUENCE:3
DTSTAMP:20260421T152638Z
URL:http://members.metronorthchamber.org/events/details/jam-hops-all-boys-open-gym-05-06-2017-175026
END:VEVENT

END:VCALENDAR
